BEGIN:VCALENDAR
VERSION:2.0
PRODID:-//New Hampshire Music Educators Association - ECPv6.15.20//NONSGML v1.0//EN
CALSCALE:GREGORIAN
METHOD:PUBLISH
X-WR-CALNAME:New Hampshire Music Educators Association
X-ORIGINAL-URL:https://nhmea.org
X-WR-CALDESC:Events for New Hampshire Music Educators Association
REFRESH-INTERVAL;VALUE=DURATION:PT1H
X-Robots-Tag:noindex
X-PUBLISHED-TTL:PT1H
BEGIN:VTIMEZONE
TZID:America/New_York
BEGIN:DAYLIGHT
TZOFFSETFROM:-0500
TZOFFSETTO:-0400
TZNAME:EDT
DTSTART:20240310T070000
END:DAYLIGHT
BEGIN:STANDARD
TZOFFSETFROM:-0400
TZOFFSETTO:-0500
TZNAME:EST
DTSTART:20241103T060000
END:STANDARD
BEGIN:DAYLIGHT
TZOFFSETFROM:-0500
TZOFFSETTO:-0400
TZNAME:EDT
DTSTART:20250309T070000
END:DAYLIGHT
BEGIN:STANDARD
TZOFFSETFROM:-0400
TZOFFSETTO:-0500
TZNAME:EST
DTSTART:20251102T060000
END:STANDARD
BEGIN:DAYLIGHT
TZOFFSETFROM:-0500
TZOFFSETTO:-0400
TZNAME:EDT
DTSTART:20260308T070000
END:DAYLIGHT
BEGIN:STANDARD
TZOFFSETFROM:-0400
TZOFFSETTO:-0500
TZNAME:EST
DTSTART:20261101T060000
END:STANDARD
BEGIN:DAYLIGHT
TZOFFSETFROM:-0500
TZOFFSETTO:-0400
TZNAME:EDT
DTSTART:20270314T070000
END:DAYLIGHT
BEGIN:STANDARD
TZOFFSETFROM:-0400
TZOFFSETTO:-0500
TZNAME:EST
DTSTART:20271107T060000
END:STANDARD
END:VTIMEZONE
BEGIN:VEVENT
DTSTART;VALUE=DATE:20251122
DTEND;VALUE=DATE:20251123
DTSTAMP:20260425T071407
CREATED:20250808T153011Z
LAST-MODIFIED:20250808T153011Z
UID:12139-1763769600-1763855999@nhmea.org
SUMMARY:All-State Auditions
DESCRIPTION: 
URL:https://nhmea.org/event/all-state-auditions/
LOCATION:Manchester Memorial High School
END:VEVENT
BEGIN:VEVENT
DTSTART;VALUE=DATE:20260110
DTEND;VALUE=DATE:20260111
DTSTAMP:20260425T071407
CREATED:20250808T153334Z
LAST-MODIFIED:20250808T153334Z
UID:12145-1768003200-1768089599@nhmea.org
SUMMARY:NHMEA/NHBDA Chamber Festival
DESCRIPTION: 
URL:https://nhmea.org/event/nhmea-nhbda-chamber-festival/
END:VEVENT
BEGIN:VEVENT
DTSTART;VALUE=DATE:20260110
DTEND;VALUE=DATE:20260111
DTSTAMP:20260425T071407
CREATED:20250808T153407Z
LAST-MODIFIED:20250808T153407Z
UID:12147-1768003200-1768089599@nhmea.org
SUMMARY:NHMEA Board of Directors Meeting
DESCRIPTION: 
URL:https://nhmea.org/event/nhmea-board-of-directors-meeting-3/
END:VEVENT
BEGIN:VEVENT
DTSTART;VALUE=DATE:20260201
DTEND;VALUE=DATE:20260202
DTSTAMP:20260425T071407
CREATED:20250808T153448Z
LAST-MODIFIED:20250808T153448Z
UID:12149-1769904000-1769990399@nhmea.org
SUMMARY:Spring Quarter Notes Submission Deadline
DESCRIPTION: 
URL:https://nhmea.org/event/spring-quarter-notes-submission-deadline/
END:VEVENT
BEGIN:VEVENT
DTSTART;TZID=America/New_York:20260204T160000
DTEND;TZID=America/New_York:20260204T180000
DTSTAMP:20260425T071407
CREATED:20250808T153552Z
LAST-MODIFIED:20250808T153552Z
UID:12151-1770220800-1770228000@nhmea.org
SUMMARY:NHMEA Board of Directors Meeting
DESCRIPTION:(Zoom Registration Link)
URL:https://nhmea.org/event/nhmea-board-of-directors-meeting-4/
LOCATION:zoom
END:VEVENT
BEGIN:VEVENT
DTSTART;VALUE=DATE:20260205
DTEND;VALUE=DATE:20260208
DTSTAMP:20260425T071407
CREATED:20250808T153631Z
LAST-MODIFIED:20250808T153631Z
UID:12153-1770249600-1770508799@nhmea.org
SUMMARY:Jazz All-State Festival
DESCRIPTION: 
URL:https://nhmea.org/event/jazz-all-state-festival/
LOCATION:Pinkerton Academy\, Derry\, NH
END:VEVENT
BEGIN:VEVENT
DTSTART;VALUE=DATE:20260214
DTEND;VALUE=DATE:20260215
DTSTAMP:20260425T071407
CREATED:20250808T153710Z
LAST-MODIFIED:20250808T153710Z
UID:12155-1771027200-1771113599@nhmea.org
SUMMARY:Solo and Ensemble Festival
DESCRIPTION: 
URL:https://nhmea.org/event/solo-and-ensemble-festival-2/
END:VEVENT
BEGIN:VEVENT
DTSTART;TZID=America/New_York:20260304T160000
DTEND;TZID=America/New_York:20260304T180000
DTSTAMP:20260425T071407
CREATED:20250808T153834Z
LAST-MODIFIED:20250808T153834Z
UID:12157-1772640000-1772647200@nhmea.org
SUMMARY:NHMEA Board of Directors Meeting
DESCRIPTION:(Zoom Registration Link)
URL:https://nhmea.org/event/nhmea-board-of-directors-meeting-5/
LOCATION:zoom
END:VEVENT
BEGIN:VEVENT
DTSTART;VALUE=DATE:20260314
DTEND;VALUE=DATE:20260315
DTSTAMP:20260425T071407
CREATED:20250808T153928Z
LAST-MODIFIED:20250808T153928Z
UID:12159-1773446400-1773532799@nhmea.org
SUMMARY:Large Group Festival - Weekend 1
DESCRIPTION: 
URL:https://nhmea.org/event/large-group-festival-weekend-1/
END:VEVENT
BEGIN:VEVENT
DTSTART;VALUE=DATE:20260321
DTEND;VALUE=DATE:20260322
DTSTAMP:20260425T071407
CREATED:20250808T154007Z
LAST-MODIFIED:20250808T154007Z
UID:12161-1774051200-1774137599@nhmea.org
SUMMARY:Large Group Festival - Weekend 2
DESCRIPTION: 
URL:https://nhmea.org/event/large-group-festival-weekend-2/
END:VEVENT
BEGIN:VEVENT
DTSTART;VALUE=DATE:20260416
DTEND;VALUE=DATE:20260419
DTSTAMP:20260425T071407
CREATED:20250808T154110Z
LAST-MODIFIED:20250808T154110Z
UID:12163-1776297600-1776556799@nhmea.org
SUMMARY:All-State Music Festival
DESCRIPTION: 
URL:https://nhmea.org/event/all-state-music-festival-2/
LOCATION:Concord High School\, Concord\, NH
END:VEVENT
BEGIN:VEVENT
DTSTART;TZID=America/New_York:20260416T180000
DTEND;TZID=America/New_York:20260416T200000
DTSTAMP:20260425T071407
CREATED:20250808T154356Z
LAST-MODIFIED:20250808T154356Z
UID:12169-1776362400-1776369600@nhmea.org
SUMMARY:NHMEA Board of Directors Meeting
DESCRIPTION: 
URL:https://nhmea.org/event/nhmea-board-of-directors-meeting-6/
LOCATION:Concord High School\, Concord\, NH
END:VEVENT
BEGIN:VEVENT
DTSTART;VALUE=DATE:20260417
DTEND;VALUE=DATE:20260418
DTSTAMP:20260425T071407
CREATED:20250808T154308Z
LAST-MODIFIED:20250808T154308Z
UID:12167-1776384000-1776470399@nhmea.org
SUMMARY:Elementary Honors Choir
DESCRIPTION:Concert is at 4:00 p.m. at the Grappone Conference Center in Concord\, NH.
URL:https://nhmea.org/event/elementary-honors-choir/
END:VEVENT
BEGIN:VEVENT
DTSTART;TZID=America/New_York:20260417T080000
DTEND;TZID=America/New_York:20260417T170000
DTSTAMP:20260425T071407
CREATED:20250808T154211Z
LAST-MODIFIED:20250808T154211Z
UID:12165-1776412800-1776445200@nhmea.org
SUMMARY:Spring Conference
DESCRIPTION: 
URL:https://nhmea.org/event/spring-conference-3/
LOCATION:Grappone Center\, Concord\, NH
END:VEVENT
BEGIN:VEVENT
DTSTART;VALUE=DATE:20260501
DTEND;VALUE=DATE:20260502
DTSTAMP:20260425T071407
CREATED:20250808T154433Z
LAST-MODIFIED:20250808T154433Z
UID:12171-1777593600-1777679999@nhmea.org
SUMMARY:Summer Quarter Notes Submission Deadline
DESCRIPTION: 
URL:https://nhmea.org/event/summer-quarter-notes-submission-deadline/
END:VEVENT
BEGIN:VEVENT
DTSTART;TZID=America/New_York:20260506T160000
DTEND;TZID=America/New_York:20260506T180000
DTSTAMP:20260425T071407
CREATED:20250808T154558Z
LAST-MODIFIED:20250808T154558Z
UID:12173-1778083200-1778090400@nhmea.org
SUMMARY:NHMEA Board of Directors Meeting
DESCRIPTION:(Zoom Registration Link)
URL:https://nhmea.org/event/nhmea-board-of-directors-meeting-7/
END:VEVENT
BEGIN:VEVENT
DTSTART;VALUE=DATE:20260509
DTEND;VALUE=DATE:20260510
DTSTAMP:20260425T071407
CREATED:20250808T154634Z
LAST-MODIFIED:20250808T154634Z
UID:12175-1778284800-1778371199@nhmea.org
SUMMARY:Middle School Festivals (all sites)
DESCRIPTION: 
URL:https://nhmea.org/event/middle-school-festivals-all-sites/
END:VEVENT
BEGIN:VEVENT
DTSTART;TZID=America/New_York:20260603T160000
DTEND;TZID=America/New_York:20260603T180000
DTSTAMP:20260425T071407
CREATED:20250808T154721Z
LAST-MODIFIED:20250808T154721Z
UID:12177-1780502400-1780509600@nhmea.org
SUMMARY:NHMEA Board of Directors Meeting
DESCRIPTION:(Zoom Registration Link)
URL:https://nhmea.org/event/nhmea-board-of-directors-meeting-8/
END:VEVENT
END:VCALENDAR