BEGIN:VCALENDAR
VERSION:2.0
PRODID:-//New Hampshire Music Educators Association - ECPv6.15.20//NONSGML v1.0//EN
CALSCALE:GREGORIAN
METHOD:PUBLISH
X-WR-CALNAME:New Hampshire Music Educators Association
X-ORIGINAL-URL:https://nhmea.org
X-WR-CALDESC:Events for New Hampshire Music Educators Association
REFRESH-INTERVAL;VALUE=DURATION:PT1H
X-Robots-Tag:noindex
X-PUBLISHED-TTL:PT1H
BEGIN:VTIMEZONE
TZID:UTC
BEGIN:STANDARD
TZOFFSETFROM:+0000
TZOFFSETTO:+0000
TZNAME:UTC
DTSTART:20160101T000000
END:STANDARD
END:VTIMEZONE
BEGIN:VTIMEZONE
TZID:America/New_York
BEGIN:DAYLIGHT
TZOFFSETFROM:-0500
TZOFFSETTO:-0400
TZNAME:EDT
DTSTART:20140309T070000
END:DAYLIGHT
BEGIN:STANDARD
TZOFFSETFROM:-0400
TZOFFSETTO:-0500
TZNAME:EST
DTSTART:20141102T060000
END:STANDARD
BEGIN:DAYLIGHT
TZOFFSETFROM:-0500
TZOFFSETTO:-0400
TZNAME:EDT
DTSTART:20150308T070000
END:DAYLIGHT
BEGIN:STANDARD
TZOFFSETFROM:-0400
TZOFFSETTO:-0500
TZNAME:EST
DTSTART:20151101T060000
END:STANDARD
BEGIN:DAYLIGHT
TZOFFSETFROM:-0500
TZOFFSETTO:-0400
TZNAME:EDT
DTSTART:20160313T070000
END:DAYLIGHT
BEGIN:STANDARD
TZOFFSETFROM:-0400
TZOFFSETTO:-0500
TZNAME:EST
DTSTART:20161106T060000
END:STANDARD
END:VTIMEZONE
BEGIN:VEVENT
DTSTART;TZID=UTC:20171012T080000
DTEND;TZID=UTC:20171012T170000
DTSTAMP:20260425T061856
CREATED:20170901T145757Z
LAST-MODIFIED:20170901T151401Z
UID:8115-1507795200-1507827600@nhmea.org
SUMMARY:October Music Fest
DESCRIPTION:Thursday October 12\, 2017 at the Radison in Manchester
URL:https://nhmea.org/event/october-music-fest/
END:VEVENT
BEGIN:VEVENT
DTSTART;TZID=UTC:20170901T080000
DTEND;TZID=UTC:20171006T190000
DTSTAMP:20260425T061856
CREATED:20170901T145629Z
LAST-MODIFIED:20170901T145629Z
UID:8113-1504252800-1507316400@nhmea.org
SUMMARY:Registration for All-State
DESCRIPTION:Registrations for All-State auditions are due October 6. Please use the OPUS tab at the top of the page to register your students!
URL:https://nhmea.org/event/registration-for-all-state/
END:VEVENT
BEGIN:VEVENT
DTSTART;TZID=America/New_York:20150417T080000
DTEND;TZID=America/New_York:20150417T170000
DTSTAMP:20260425T061856
CREATED:20141118T145817Z
LAST-MODIFIED:20141118T145817Z
UID:80-1429257600-1429290000@nhmea.org
SUMMARY:Spring Conference
DESCRIPTION:
URL:https://nhmea.org/event/spring-conference/
LOCATION:Grappone Center\, Concord\, NH
END:VEVENT
BEGIN:VEVENT
DTSTART;TZID=America/New_York:20150416T150000
DTEND;TZID=America/New_York:20150418T170000
DTSTAMP:20260425T061856
CREATED:20141118T145901Z
LAST-MODIFIED:20141118T145901Z
UID:82-1429196400-1429376400@nhmea.org
SUMMARY:All-State Music Festival
DESCRIPTION:
URL:https://nhmea.org/event/all-state-music-festival/
LOCATION:Concord High School\, Concord\, NH
END:VEVENT
BEGIN:VEVENT
DTSTART;VALUE=DATE:20150321
DTEND;VALUE=DATE:20150322
DTSTAMP:20260425T061856
CREATED:20141118T145717Z
LAST-MODIFIED:20141118T145717Z
UID:79-1426896000-1426982399@nhmea.org
SUMMARY:Large Group
DESCRIPTION:High School performances at Plymouth Regional High School
URL:https://nhmea.org/event/large-group-2/
END:VEVENT
BEGIN:VEVENT
DTSTART;VALUE=DATE:20150314
DTEND;VALUE=DATE:20150315
DTSTAMP:20260425T061856
CREATED:20141118T145652Z
LAST-MODIFIED:20141118T145652Z
UID:78-1426291200-1426377599@nhmea.org
SUMMARY:Large Group
DESCRIPTION:Elementary and Middle school performances at Goffstown High School
URL:https://nhmea.org/event/large-group/
END:VEVENT
BEGIN:VEVENT
DTSTART;TZID=America/New_York:20150214T080000
DTEND;TZID=America/New_York:20150214T170000
DTSTAMP:20260425T061856
CREATED:20141118T144949Z
LAST-MODIFIED:20141118T144949Z
UID:75-1423900800-1423933200@nhmea.org
SUMMARY:Solo and Ensemble Festival
DESCRIPTION:
URL:https://nhmea.org/event/solo-and-ensemble-festival/
LOCATION:Keene State College\, Keene\, NH
END:VEVENT
BEGIN:VEVENT
DTSTART;TZID=America/New_York:20150207T010000
DTEND;TZID=America/New_York:20150207T170000
DTSTAMP:20260425T061856
CREATED:20150107T132244Z
LAST-MODIFIED:20150107T132244Z
UID:202-1423270800-1423328400@nhmea.org
SUMMARY:Jazz All-State Performances
DESCRIPTION:Beginning at 1pm. Stockbridge Theater\, Pinkerton Academy\, Derry\, NH
URL:https://nhmea.org/event/jazz-all-state-performances/
LOCATION:Pinkerton Academy\, Derry\, NH
END:VEVENT
BEGIN:VEVENT
DTSTART;TZID=America/New_York:20150205T030000
DTEND;TZID=America/New_York:20150207T170000
DTSTAMP:20260425T061856
CREATED:20141118T144800Z
LAST-MODIFIED:20141118T144800Z
UID:73-1423105200-1423328400@nhmea.org
SUMMARY:Jazz All-State Festival
DESCRIPTION:Jazz All-State at Pinkerton Academy\, Derry\, NH. Performances are on Saturday\, Feb. 7\, 2015
URL:https://nhmea.org/event/jazz-all-state-festival-2/
LOCATION:Pinkerton Academy\, Derry\, NH
END:VEVENT
BEGIN:VEVENT
DTSTART;VALUE=DATE:20150201
DTEND;VALUE=DATE:20150202
DTSTAMP:20260425T061856
CREATED:20141118T144417Z
LAST-MODIFIED:20141118T144417Z
UID:70-1422748800-1422835199@nhmea.org
SUMMARY:Quarter Note Deadline
DESCRIPTION:Deadline for submissions to the Spring edition of Quarter Notes. Submissions can be sent to editor@nhmea.org
URL:https://nhmea.org/event/quarter-note-deadline/
END:VEVENT
BEGIN:VEVENT
DTSTART;VALUE=DATE:20150110
DTEND;VALUE=DATE:20150111
DTSTAMP:20260425T061856
CREATED:20141118T144106Z
LAST-MODIFIED:20141118T144106Z
UID:65-1420848000-1420934399@nhmea.org
SUMMARY:Chamber Festival & Guitar All-State
DESCRIPTION:
URL:https://nhmea.org/event/chamber-festival-guitar-all-state/
LOCATION:Timberlane Regional HS\, Plaistow\, NH\, United States
END:VEVENT
END:VCALENDAR