BEGIN:VCALENDAR
VERSION:2.0
PRODID:-//New Hampshire Music Educators Association - ECPv6.15.20//NONSGML v1.0//EN
CALSCALE:GREGORIAN
METHOD:PUBLISH
X-WR-CALNAME:New Hampshire Music Educators Association
X-ORIGINAL-URL:https://nhmea.org
X-WR-CALDESC:Events for New Hampshire Music Educators Association
REFRESH-INTERVAL;VALUE=DURATION:PT1H
X-Robots-Tag:noindex
X-PUBLISHED-TTL:PT1H
BEGIN:VTIMEZONE
TZID:America/New_York
BEGIN:DAYLIGHT
TZOFFSETFROM:-0500
TZOFFSETTO:-0400
TZNAME:EDT
DTSTART:20240310T070000
END:DAYLIGHT
BEGIN:STANDARD
TZOFFSETFROM:-0400
TZOFFSETTO:-0500
TZNAME:EST
DTSTART:20241103T060000
END:STANDARD
BEGIN:DAYLIGHT
TZOFFSETFROM:-0500
TZOFFSETTO:-0400
TZNAME:EDT
DTSTART:20250309T070000
END:DAYLIGHT
BEGIN:STANDARD
TZOFFSETFROM:-0400
TZOFFSETTO:-0500
TZNAME:EST
DTSTART:20251102T060000
END:STANDARD
BEGIN:DAYLIGHT
TZOFFSETFROM:-0500
TZOFFSETTO:-0400
TZNAME:EDT
DTSTART:20260308T070000
END:DAYLIGHT
BEGIN:STANDARD
TZOFFSETFROM:-0400
TZOFFSETTO:-0500
TZNAME:EST
DTSTART:20261101T060000
END:STANDARD
END:VTIMEZONE
BEGIN:VEVENT
DTSTART;TZID=America/New_York:20250903T160000
DTEND;TZID=America/New_York:20250903T180000
DTSTAMP:20260424T202940
CREATED:20250808T150018Z
LAST-MODIFIED:20250808T150018Z
UID:12123-1756915200-1756922400@nhmea.org
SUMMARY:NHMEA Board of Directors Meeting
DESCRIPTION: 
URL:https://nhmea.org/event/nhmea-board-of-directors-meeting/
LOCATION:zoom
END:VEVENT
BEGIN:VEVENT
DTSTART;TZID=America/New_York:20250919T235900
DTEND;TZID=America/New_York:20250919T235900
DTSTAMP:20260424T202940
CREATED:20250808T152622Z
LAST-MODIFIED:20250808T152622Z
UID:12133-1758326340-1758326340@nhmea.org
SUMMARY:Pre-Registration Deadline - October Music Fest
DESCRIPTION: 
URL:https://nhmea.org/event/pre-registration-deadline-october-music-fest/
END:VEVENT
BEGIN:VEVENT
DTSTART;TZID=America/New_York:20250922T235900
DTEND;TZID=America/New_York:20250922T235900
DTSTAMP:20260424T202940
CREATED:20250808T152527Z
LAST-MODIFIED:20250808T152527Z
UID:12131-1758585540-1758585540@nhmea.org
SUMMARY:REGISTRATION DEADLINE - Jazz All State Auditions
DESCRIPTION: 
URL:https://nhmea.org/event/registration-deadline-jazz-all-state-auditions/
END:VEVENT
END:VCALENDAR