BEGIN:VCALENDAR
VERSION:2.0
PRODID:-//New Hampshire Music Educators Association - ECPv6.15.20//NONSGML v1.0//EN
CALSCALE:GREGORIAN
METHOD:PUBLISH
X-WR-CALNAME:New Hampshire Music Educators Association
X-ORIGINAL-URL:https://nhmea.org
X-WR-CALDESC:Events for New Hampshire Music Educators Association
REFRESH-INTERVAL;VALUE=DURATION:PT1H
X-Robots-Tag:noindex
X-PUBLISHED-TTL:PT1H
BEGIN:VTIMEZONE
TZID:America/New_York
BEGIN:DAYLIGHT
TZOFFSETFROM:-0500
TZOFFSETTO:-0400
TZNAME:EDT
DTSTART:20250309T070000
END:DAYLIGHT
BEGIN:STANDARD
TZOFFSETFROM:-0400
TZOFFSETTO:-0500
TZNAME:EST
DTSTART:20251102T060000
END:STANDARD
BEGIN:DAYLIGHT
TZOFFSETFROM:-0500
TZOFFSETTO:-0400
TZNAME:EDT
DTSTART:20260308T070000
END:DAYLIGHT
BEGIN:STANDARD
TZOFFSETFROM:-0400
TZOFFSETTO:-0500
TZNAME:EST
DTSTART:20261101T060000
END:STANDARD
BEGIN:DAYLIGHT
TZOFFSETFROM:-0500
TZOFFSETTO:-0400
TZNAME:EDT
DTSTART:20270314T070000
END:DAYLIGHT
BEGIN:STANDARD
TZOFFSETFROM:-0400
TZOFFSETTO:-0500
TZNAME:EST
DTSTART:20271107T060000
END:STANDARD
END:VTIMEZONE
BEGIN:VEVENT
DTSTART;VALUE=DATE:20260110
DTEND;VALUE=DATE:20260111
DTSTAMP:20260424T140524
CREATED:20250808T153334Z
LAST-MODIFIED:20250808T153334Z
UID:12145-1768003200-1768089599@nhmea.org
SUMMARY:NHMEA/NHBDA Chamber Festival
DESCRIPTION: 
URL:https://nhmea.org/event/nhmea-nhbda-chamber-festival/
END:VEVENT
BEGIN:VEVENT
DTSTART;VALUE=DATE:20260110
DTEND;VALUE=DATE:20260111
DTSTAMP:20260424T140524
CREATED:20250808T153407Z
LAST-MODIFIED:20250808T153407Z
UID:12147-1768003200-1768089599@nhmea.org
SUMMARY:NHMEA Board of Directors Meeting
DESCRIPTION: 
URL:https://nhmea.org/event/nhmea-board-of-directors-meeting-3/
END:VEVENT
END:VCALENDAR